BEGIN:VCALENDAR
VERSION:2.0
PRODID:-//DC Priest - ECPv6.15.20//NONSGML v1.0//EN
CALSCALE:GREGORIAN
METHOD:PUBLISH
X-WR-CALNAME:DC Priest
X-ORIGINAL-URL:https://dcpriest.org
X-WR-CALDESC:Events for DC Priest
REFRESH-INTERVAL;VALUE=DURATION:PT1H
X-Robots-Tag:noindex
X-PUBLISHED-TTL:PT1H
BEGIN:VTIMEZONE
TZID:America/New_York
BEGIN:DAYLIGHT
TZOFFSETFROM:-0500
TZOFFSETTO:-0400
TZNAME:EDT
DTSTART:20250309T070000
END:DAYLIGHT
BEGIN:STANDARD
TZOFFSETFROM:-0400
TZOFFSETTO:-0500
TZNAME:EST
DTSTART:20251102T060000
END:STANDARD
BEGIN:DAYLIGHT
TZOFFSETFROM:-0500
TZOFFSETTO:-0400
TZNAME:EDT
DTSTART:20260308T070000
END:DAYLIGHT
BEGIN:STANDARD
TZOFFSETFROM:-0400
TZOFFSETTO:-0500
TZNAME:EST
DTSTART:20261101T060000
END:STANDARD
BEGIN:DAYLIGHT
TZOFFSETFROM:-0500
TZOFFSETTO:-0400
TZNAME:EDT
DTSTART:20270314T070000
END:DAYLIGHT
BEGIN:STANDARD
TZOFFSETFROM:-0400
TZOFFSETTO:-0500
TZNAME:EST
DTSTART:20271107T060000
END:STANDARD
END:VTIMEZONE
BEGIN:VEVENT
DTSTART;TZID=America/New_York:20260517T100000
DTEND;TZID=America/New_York:20260517T130000
DTSTAMP:20260424T041427
CREATED:20260330T131614Z
LAST-MODIFIED:20260330T131614Z
UID:10000082-1779012000-1779022800@dcpriest.org
SUMMARY:2026 Men's Discernment Mass and Brunch
DESCRIPTION:[vc_row][vc_column][vc_column_text css=””]Young men (college age and up) are invited to a Men’s Discernment Mass and Brunch on Sunday\, May 17\, 2026\, 10:00 a.m. to 1:00 p.m.\, at Saint John Paul II Seminary. The day will include Mass\, brunch\, and an opportunity to discuss the priesthood with priests and seminarians. There is no charge\, but you must register here (through Flocknote). Parking will be available at the Seminary\, 145 Taylor Street\, NE\, Washington\, DC 20017.[/vc_column_text][/vc_column][/vc_row][vc_row][vc_column][/vc_column][/vc_row][vc_row][vc_column][vc_column_text] [/vc_column_text][/vc_column][/vc_row]
URL:https://dcpriest.org/event/2026-mens-discernment-mass-and-brunch/
LOCATION:Saint John Paul II Seminary\, 145 Taylor Street NE\, DC\, WA\, 20017\, United States
CATEGORIES:Young Adult Events
END:VEVENT
BEGIN:VEVENT
DTSTART;TZID=America/New_York:20260619T180000
DTEND;TZID=America/New_York:20260619T190000
DTSTAMP:20260424T041427
CREATED:20260423T183353Z
LAST-MODIFIED:20260423T183947Z
UID:10000083-1781892000-1781895600@dcpriest.org
SUMMARY:2026 Eucharistic Holy Hour for Ordinands to the Priesthood\, The Roman Catholic Archdiocese of Washington
DESCRIPTION:[vc_row][vc_column][vc_row_inner][vc_column_inner width=”2/3″][vc_column_text] \n\n\n\n\n\n\nPlease join us on Friday\, June 19\, 2026\, for a Eucharistic Holy Hour for Ordinands to the Priesthood\, 6:00 p.m.\, at the Crypt Church\, Basilica of the National Shrine of the Immaculate Conception\, Washington\, D.C. \nReverend Pawel Sass will be the Presider and Homilist. \nThis year five men will be ordained on June 20\, 2026. The ordinands are \nDeacon Pedro López \nDeacon Federico Mariano \nDeacon David Narváez \nDeacon Brendan Parlett \nDeacon Jessiah Rojas \n  \n\n\n\n\n\n\n\n\n\n\n\n\n\n 
URL:https://dcpriest.org/event/2026-eucharistic-holy-hour-for-ordinands-to-the-priesthood-the-roman-catholic-archdiocese-of-washington/
LOCATION:Basilica of the National Shrine of the Immaculate Conception\, 400 Michigan Ave NE\, Washington\, DC\, 20017\, United States
CATEGORIES:Archdiocese Events
END:VEVENT
BEGIN:VEVENT
DTSTART;TZID=America/New_York:20260708T100000
DTEND;TZID=America/New_York:20260708T150000
DTSTAMP:20260424T041427
CREATED:20260423T201116Z
LAST-MODIFIED:20260423T201116Z
UID:10000084-1783504800-1783522800@dcpriest.org
SUMMARY:2026 Middle-School Vocations Day
DESCRIPTION:[vc_row][vc_column][vc_column_text css=””]Boys in the Archdiocese of Washington who will be entering 6th\, 7th\, or 8th grade in the Fall 2026 are invited to register for Middle-School Vocations Day. \nDay includes Adoration\, Mass\, sports\, lunch\, an opportunity to talk with seminarians and priests\, and more![/vc_column_text][/vc_column][/vc_row][vc_row][vc_column]\n\n                					 \n \n						Δ\n						\n						\n\n					\n                        This field is hidden when viewing the formNext Steps: Install the User Registration Add-OnThis form requires the Gravity Forms User Registration Add-On. Important: Delete this tip before you publish the form.Student's name(Required)\n                            \n                            \n                                                    First\n                                                    \n                                                \n                            \n                            \n                                                            Last\n                                                            \n                                                        \n                            \n                        Address(Required)    \n                    \n                         \n                                        Street Address\n                                        \n                                   \n                                        Address Line 2\n                                        \n                                    \n                                    City\n                                    \n                                 \n                                        State / Province / Region\n                                        \n                                      \n                                    ZIP / Postal Code\n                                    \n                                \n                                        Country\n                                        AfghanistanAlbaniaAlgeriaAmerican SamoaAndorraAngolaAnguillaAntarcticaAntigua and BarbudaArgentinaArmeniaArubaAustraliaAustriaAzerbaijanBahamasBahrainBangladeshBarbadosBelarusBelgiumBelizeBeninBermudaBhutanBoliviaBonaire\, Sint Eustatius and SabaBosnia and HerzegovinaBotswanaBouvet IslandBrazilBritish Indian Ocean TerritoryBrunei DarussalamBulgariaBurkina FasoBurundiCabo VerdeCambodiaCameroonCanadaCayman IslandsCentral African RepublicChadChileChinaChristmas IslandCocos IslandsColombiaComorosCongoCongo\, Democratic Republic of theCook IslandsCosta RicaCroatiaCubaCuraçaoCyprusCzechiaCôte d'IvoireDenmarkDjiboutiDominicaDominican RepublicEcuadorEgyptEl SalvadorEquatorial GuineaEritreaEstoniaEswatiniEthiopiaFalkland IslandsFaroe IslandsFijiFinlandFranceFrench GuianaFrench PolynesiaFrench Southern TerritoriesGabonGambiaGeorgiaGermanyGhanaGibraltarGreeceGreenlandGrenadaGuadeloupeGuamGuatemalaGuernseyGuineaGuinea-BissauGuyanaHaitiHeard Island and McDonald IslandsHoly SeeHondurasHong KongHungaryIcelandIndiaIndonesiaIranIraqIrelandIsle of ManIsraelItalyJamaicaJapanJerseyJordanKazakhstanKenyaKiribatiKorea\, Democratic People's Republic ofKorea\, Republic ofKuwaitKyrgyzstanLao People's Democratic RepublicLatviaLebanonLesothoLiberiaLibyaLiechtensteinLithuaniaLuxembourgMacaoMadagascarMalawiMalaysiaMaldivesMaliMaltaMarshall IslandsMartiniqueMauritaniaMauritiusMayotteMexicoMicronesiaMoldovaMonacoMongoliaMontenegroMontserratMoroccoMozambiqueMyanmarNamibiaNauruNepalNetherlandsNew CaledoniaNew ZealandNicaraguaNigerNigeriaNiueNorfolk IslandNorth MacedoniaNorthern Mariana IslandsNorwayOmanPakistanPalauPalestine\, State ofPanamaPapua New GuineaParaguayPeruPhilippinesPitcairnPolandPortugalPuerto RicoQatarRomaniaRussian FederationRwandaRéunionSaint BarthélemySaint Helena\, Ascension and Tristan da CunhaSaint Kitts and NevisSaint LuciaSaint MartinSaint Pierre and MiquelonSaint Vincent and the GrenadinesSamoaSan MarinoSao Tome and PrincipeSaudi ArabiaSenegalSerbiaSeychellesSierra LeoneSingaporeSint MaartenSlovakiaSloveniaSolomon IslandsSomaliaSouth AfricaSouth Georgia and the South Sandwich IslandsSouth SudanSpainSri LankaSudanSurinameSvalbard and Jan MayenSwedenSwitzerlandSyria Arab RepublicTaiwanTajikistanTanzania\, the United Republic ofThailandTimor-LesteTogoTokelauTongaTrinidad and TobagoTunisiaTurkmenistanTurks and Caicos IslandsTuvaluTürkiyeUS Minor Outlying IslandsUgandaUkraineUnited Arab EmiratesUnited KingdomUnited StatesUruguayUzbekistanVanuatuVenezuelaViet NamVirgin Islands\, BritishVirgin Islands\, U.S.Wallis and FutunaWestern SaharaYemenZambiaZimbabweÅland Islands \n                                    \n                    \n                Name of your parish in Archdiocese of Washington(Required)Date of birth(Required)\n                            \n                            MM slash DD slash YYYY\n                        \n                        In the Fall of 2026\, which will be your grade?(Required)\n			\n					\n					6th grade\n			\n			\n					\n					7th grade\n			\n			\n					\n					8th grade\n			Email(Required)\n                                \n                                    Enter Email\n                                    \n                                \n                                \n                                    Confirm Email\n                                    \n                                \n                                \n                            Student's cellphoneDo you have any special dietary needs or allergies? If not\, please type "none."(Required)Parent's name(Required)\n                            \n                            \n                                                    First\n                                                    \n                                                \n                            \n                            \n                                                            Last\n                                                            \n                                                        \n                            \n                        Parent's email(Required)\n                            \n                        Parent's cellphone(Required)\n          \n            \n            \n            \n            \n            \n            \n            \n            \n            \n            \n            \n            \n            \n        \n                        \n                        \n[vc_column_text][/vc_column_text][/vc_column][/vc_row][vc_row][vc_column][vc_column_text][/vc_column_text][/vc_column][/vc_row]
URL:https://dcpriest.org/event/2026-middle-school-vocations-day/
LOCATION:Saint John Paul II Seminary\, 145 Taylor Street NE\, DC\, WA\, 20017\, United States
CATEGORIES:Middle School Events
END:VEVENT
BEGIN:VEVENT
DTSTART;TZID=America/New_York:20260726T130000
DTEND;TZID=America/New_York:20260729T130000
DTSTAMP:20260424T041427
CREATED:20260319T200121Z
LAST-MODIFIED:20260319T201241Z
UID:10000080-1785070800-1785330000@dcpriest.org
SUMMARY:2026 Quo Vadis Camp
DESCRIPTION:[vc_row][vc_column][vc_column_text css=””]Are you a young man in high school interested in learning more about the priesthood? Join us at the 2026 Quo Vadis Camp\, July 26 to July 29\, at Mount Saint Mary’s Seminary\, Emmitsburg\, Md. \nRun by priests and seminarians of the Archdiocese of Washington\, Quo Vadis Camp includes Mass\, great talks\, sports\, Eucharistic Adoration\, games\, food\, and time to relax with other high-school guys discerning God’s will in their life. \nRegister now at https://forms.dcpriest.org/2026-quo-vadis-camp. \nOptional bus transportation is available at https://forms.dcpriest.org/2026-bus-transportation-for-quo-vadis-camp.[/vc_column_text][/vc_column][/vc_row]
URL:https://dcpriest.org/event/2026-quo-vadis-camp/
LOCATION:Mount Saint Mary’s Seminary\, 16300 Old Emmitsburg Road\, Emmitsburg\, 21727\, United States
CATEGORIES:High School Events
END:VEVENT
END:VCALENDAR